BEGIN:VCALENDAR
VERSION:2.0
PRODID:Events Booking
BEGIN:VEVENT
UID:69eb310d6d9cf
SUMMARY:Malen im Keller
DESCRIPTION:Neues Angebot im Studio: Freies Malen mit Gunhild
 Unsere Ehre
 namtliche Gunhild hat in den letzten Wochen den Kellerraum in unserem \"St
 udio\" (am Rosengarten 10) liebevoll in einen Ort zum freien Malen verwand
 elt. Dort entsteht ein Raum\, in dem Menschen – ob groß oder klein – 
 ohne Vorgaben und Leistungsdruck kreativ werden können. Es geht nicht dar
 um\, etwas „Schönes“ oder „Richtiges“ zu malen\, sondern einfach 
 das\, was man fühlt.
 Zum ersten Kennenlernen laden wir herzlich ein am 
 ? Montag\, den 24. November um 15 Uhr ? Wohnzimmer-Studio\, Am Rosengarten
  10\, Fulda
 Alle Interessierten – Erwachsene wie Kinder – sind willk
 ommen\, den neuen Raum zu entdecken\, mit Gunhild ins Gespräch zu kommen 
 und gemeinsam zu überlegen\, wann und wie das freie Malen künftig regelm
 äßig stattfinden soll.
LOCATION:Am Rosengarten 10\, 36037 Fulda\, Deutschland
DTSTART:20251124T140000Z
DTEND:20251124T150000Z
DTSTAMP:20251024T123144Z
ORGANIZER:MAILTO:admin@welcome-in.org
GEO:50.549278;9.672315
X-APPLE-STRUCTURED-LOCATION;VALUE=URI;X-ADDRESS=Am Rosengarten 10\, 36037 F
 ulda\, Deutschland;X-APPLE-RADIUS=72;X-TITLE=Welcome In! STUDIO:50.549278;
 9.672315
END:VEVENT
END:VCALENDAR