BEGIN:VCALENDAR
VERSION:2.0
PRODID:Events Booking
BEGIN:VEVENT
UID:69e6410c67dc1
SUMMARY:Vortrag und Diskussion: Palästina - von der Nakba bis zur Gegenwar
 t
DESCRIPTION:Die Eskalation des Nahostkonflikts in den vergangenen Monaten\,
  das unermessliche Leid der betroffenen Menschen auf allen Seiten\, besch
 äftigt uns als Verein sehr. Insbesondere beschäftigt uns die Frage\, wie
  wir dazu beitragen können\, dass hier in Fulda ein Austausch über den K
 onflikt ohne Hass und Menschenfeindlichkeit ermöglicht wird. Dafür ist e
 s unserer Meinung nach wichtig\, einander zuzuhören und miteinander ins G
 espräch zu kommen.
 Aus diesem Grund möchten wir am Donnerstag\, 7. Mä
 rz\, um 18 Uhr die Geschichte Palästinas beleuchten. 
LOCATION:Robert-Kircher-Straße 25\, 36037 Fulda\, Deutschland
DTSTART:20240307T170000Z
DTEND:20240307T200000Z
DTSTAMP:20240229T105939Z
ORGANIZER:MAILTO:admin@welcome-in.org
GEO:50.549459;9.67264
X-APPLE-STRUCTURED-LOCATION;VALUE=URI;X-ADDRESS=Robert-Kircher-Straße 25\,
  36037 Fulda\, Deutschland;X-APPLE-RADIUS=72;X-TITLE=Welcome In! WOHNZIMME
 R:50.549459;9.67264
END:VEVENT
END:VCALENDAR