BEGIN:VCALENDAR
VERSION:2.0
PRODID:Events Booking
BEGIN:VEVENT
UID:69eb31482029d
SUMMARY:Wohnzimmer-Kickerturnier
DESCRIPTION:Am Samstag\, den 1. Februar\, veranstalten wir im Wohnzimmer ei
 n Kickerturnier.
 Von 18 bis 20 Uhr habt ihr die Chance\, euer Können am
  Tischkicker unter Beweis zu stellen. Gespielt wird 2 gegen 2.Für die ers
 ten drei Gewinner-Teams gibt es Preise zu gewinnen.
 Wer teilnehmen möch
 te kann sich bis spätestens Donnerstag\, den 30. Januar\, per Mail an joc
 hen@welcome.in.org anmelden.
 Wir freuen uns auf euch!
LOCATION:Robert-Kircher-Straße 25\, 36037 Fulda\, Deutschland
DTSTART:20250201T170000Z
DTEND:20250201T190000Z
DTSTAMP:20250117T141646Z
ORGANIZER:MAILTO:admin@welcome-in.org
GEO:50.549459;9.67264
X-APPLE-STRUCTURED-LOCATION;VALUE=URI;X-ADDRESS=Robert-Kircher-Straße 25\,
  36037 Fulda\, Deutschland;X-APPLE-RADIUS=72;X-TITLE=Welcome In! WOHNZIMME
 R:50.549459;9.67264
END:VEVENT
END:VCALENDAR