BEGIN:VCALENDAR
VERSION:2.0
PRODID:Events Booking
BEGIN:VEVENT
UID:69e960be4abbf
SUMMARY:Erzähltheater mit den \"Omas gegen Rechts\"
DESCRIPTION:Die \"Omas gegen Rechts\" bringen uns am 13.11.2024 um 15Uhr wi
 eder eine Geschichte mit.
 Wir sind schon alle sehr gespannt und freuen u
 ns ebenso auf die anschließende Kreativzeit! Kommt herzlich gerne ohne An
 meldung vorbei und lauscht der tollen Geschichte.&nbsp\;
LOCATION:Robert-Kircher-Straße 25\, 36037 Fulda\, Deutschland
DTSTART:20241113T140000Z
DTEND:20241113T153000Z
DTSTAMP:20241029T182413Z
ORGANIZER:MAILTO:admin@welcome-in.org
GEO:50.549459;9.67264
X-APPLE-STRUCTURED-LOCATION;VALUE=URI;X-ADDRESS=Robert-Kircher-Straße 25\,
  36037 Fulda\, Deutschland;X-APPLE-RADIUS=72;X-TITLE=Welcome In! WOHNZIMME
 R:50.549459;9.67264
END:VEVENT
END:VCALENDAR