BEGIN:VCALENDAR
VERSION:2.0
PRODID:Events Booking
BEGIN:VEVENT
UID:69e4cc5abcb76
SUMMARY:Café 60+ mit Heike
DESCRIPTION:Das Café 60+ wurde so herzlich angenommen\, dass wir uns freue
 n\, es auch im neuen Jahr fortzusetzen.Wir treffen uns jeden zweiten und v
 ierten Donnerstag im Monat von 10 bis 12 Uhr.? Das nächste Treffen findet
  am 22.01.2026 statt.Besonders schön: Herr Kaib vom Seniorenbüro Fulda w
 ird an diesem Vormittag ebenfalls dabei sein...Und soviel können wir scho
 n verraten – es könnte musikalisch werden ?Alle Menschen ab 60 Jahren s
 ind herzlich willkommen.Kommen Sie vorbei\, bringen Sie gern jemanden mit 
 – wir freuen uns auf Sie! ❤️(Spenden sind willkommen)
LOCATION:Robert-Kircher-Straße 25\, 36037 Fulda\, Deutschland
DTSTART:20260122T090000Z
DTEND:20260122T110000Z
DTSTAMP:20251230T070544Z
ORGANIZER:MAILTO:admin@welcome-in.org
GEO:50.549459;9.67264
X-APPLE-STRUCTURED-LOCATION;VALUE=URI;X-ADDRESS=Robert-Kircher-Straße 25\,
  36037 Fulda\, Deutschland;X-APPLE-RADIUS=72;X-TITLE=Welcome In! WOHNZIMME
 R:50.549459;9.67264
END:VEVENT
END:VCALENDAR