BEGIN:VCALENDAR
VERSION:2.0
PRODID:Events Booking
BEGIN:VEVENT
UID:69eb33351e8e2
SUMMARY:Geschichten aus unserer Geschichte
DESCRIPTION:Wusstest du\, dass es unsere Gruppe schon seit 17 Jahren gibt?L
 ange bevor wir ein Verein waren\, auch lange bevor es das Wohnzimmer-Proje
 kt gab\, haben einige Aktive 2009 die \"Save Me-Gruppe Fulda\" gegründet.
 Seit dem ist unglaublich viel passiert\, dass den meisten unserer heutigen
  Gäste und Aktiven kaum bekannt sein dürfte.&nbsp\;Am Donnerstag\, 23. A
 pril\, um 18 Uhr erzählt unser Stadtteiltreff-Koordinator Jochen\, der se
 it 2012 mit dabei ist\, einige interessante\, lustige\, manchmal auch trau
 rige\, inspirierende und bewegende Geschichten aus der Geschichte unseres 
 Vereins Welcome In! Fulda e.V.Dazu gibt es Snacks und die Möglichkeit\, a
 lle Fragen zu stellen\, die du schon immer mal fragen wolltest.Die Teilnah
 me ist kostenlos und man muss sich nicht anmelden.&nbsp\;Wir freuen uns au
 f viele neugierige Gäste.
LOCATION:Robert-Kircher-Straße 25\, 36037 Fulda\, Deutschland
DTSTART:20260423T160000Z
DTEND:20260423T190000Z
DTSTAMP:20260416T054344Z
ORGANIZER:MAILTO:admin@welcome-in.org
GEO:50.549459;9.67264
X-APPLE-STRUCTURED-LOCATION;VALUE=URI;X-ADDRESS=Robert-Kircher-Straße 25\,
  36037 Fulda\, Deutschland;X-APPLE-RADIUS=72;X-TITLE=Welcome In! WOHNZIMME
 R:50.549459;9.67264
END:VEVENT
END:VCALENDAR