BEGIN:VCALENDAR
VERSION:2.0
PRODID:Events Booking
BEGIN:VEVENT
UID:69e4e770375d8
SUMMARY:Kulinarische Kochshow: Kamerunisch
DESCRIPTION:Die nächste Live -Kochshow auf unserer Facebook-Seite erwartet
  euch am Donnerstag\, 6. August\, um 19 Uhr! :-)Pascale und Zovia nehmen e
 uch mit auf eine kulinarische Entdeckungsreise nach Kamerun!Gemeinsam koch
 en sie \"Beignets Haricots Bouillie\"\, eine Art Krapfen mit Bananen\, Meh
 l und Bohnen. Live auf unserer Facebook-Seite könnt ihr lernen\, wie man 
 diese Köstlichkeit zubereitet\, ihr könnt Fragen an die beiden stellen u
 nd auch zuhause mitkochen wenn ihr möchtet.Mehr Infos zum Rezept: Bitte a
 uf die Veranstaltung klicken.Wir freuen uns wenn ihr wieder einschaltet un
 d aktiv mitmacht!Danke an Pascale und Zovia\, wir freuen uns mega auf den 
 Abend mit euch!PS: Diese Veranstaltung wird gefördert vom Bundesprogramm 
 \"Demokratie Leben\". Danke dass ihr so schöne Aktionen fördert!
LOCATION:Robert-Kircher-Straße 25\, 36037 Fulda\, Deutschland
DTSTART:20200806T170000Z
DTEND:20200806T183000Z
DTSTAMP:20260419T163216Z
ORGANIZER:MAILTO:admin@welcome-in.org
GEO:50.549459;9.67264
X-APPLE-STRUCTURED-LOCATION;VALUE=URI;X-ADDRESS=Robert-Kircher-Straße 25\,
  36037 Fulda\, Deutschland;X-APPLE-RADIUS=72;X-TITLE=Welcome In! WOHNZIMME
 R:50.549459;9.67264
END:VEVENT
END:VCALENDAR