BEGIN:VCALENDAR
VERSION:2.0
PRODID:Events Booking
BEGIN:VEVENT
UID:69e4cd0fc3fa0
SUMMARY:Offener Treff ab 16Jahren
DESCRIPTION:Ihr habt euch gewünscht\, das Wohnzimmer auch einmal ganz ohne
  festes Programm nutzen zu können. Einfach ein Buch lesen\, einen Tee tri
 nken\, mit anderen Menschen ins Gespräch kommen oder eine Runde Tischkick
 er spielen – ganz ohne Veranstaltung und ohne Verbindlichkeit.Deshalb gi
 bt es ab sofort einen offenen Treff – im März zunächst einmal an zwei 
 Dienstagen von 15:30 bis 17:30 Uhr.Es gibt Tee und Wasser und\, wenn ihr m
 ögt\, interessante Gespräche. Muss aber nicht...Ihr könnt euch auch ein
 fach etwas zum Malen oder Häkeln mitbringen\, ein Buch lesen oder ganz in
  Ruhe etwas Zeit im Wohnzimmer verbringen.Wir freuen uns auf euch!&nbsp\;1
 0.03.2026 + 24.03.202615.30-17.30UhrRobert-Kircher-Straße 25kostenlos und
  ohne Anmeldung\, ab 16Jahren Dieses Angebot ist kostenlos und ohne Anmeld
 ung. Du musst aber mindestens 16Jahre alt sein. (Spenden sind willkommen)
LOCATION:Robert-Kircher-Straße 25\, 36037 Fulda\, Deutschland
DTSTART:20260310T143000Z
DTEND:20260310T163000Z
DTSTAMP:20260224T095346Z
ORGANIZER:MAILTO:admin@welcome-in.org
GEO:50.549459;9.67264
X-APPLE-STRUCTURED-LOCATION;VALUE=URI;X-ADDRESS=Robert-Kircher-Straße 25\,
  36037 Fulda\, Deutschland;X-APPLE-RADIUS=72;X-TITLE=Welcome In! WOHNZIMME
 R:50.549459;9.67264
END:VEVENT
END:VCALENDAR