BEGIN:VCALENDAR
VERSION:2.0
PRODID:Events Booking
BEGIN:VEVENT
UID:69e963ccc2ab5
SUMMARY:Stadtteiltreff
DESCRIPTION:
DTSTART:20211104T103000Z
DTEND:20211104T123000Z
DTSTAMP:20260423T021156Z
ORGANIZER:MAILTO:admin@welcome-in.org
END:VEVENT
END:VCALENDAR