BEGIN:VCALENDAR
VERSION:2.0
PRODID:Events Booking
BEGIN:VEVENT
UID:69e95855c36c3
SUMMARY:Stadtteiltreff
DESCRIPTION:
DTSTART:20210909T093000Z
DTEND:20210909T113000Z
DTSTAMP:20260423T012301Z
ORGANIZER:MAILTO:admin@welcome-in.org
END:VEVENT
END:VCALENDAR