BEGIN:VCALENDAR
VERSION:2.0
PRODID:Events Booking
BEGIN:VEVENT
UID:69e8a6a4c2684
SUMMARY:Englisch Konversationsgruppe für Senior/innen
DESCRIPTION:Ab Dienstag\, 30. April 2024\, gibt es ein neues Angebot im Sta
 dtteiltreff:Eine Englisch-Konversationsgruppe für Seniorinnen und Seniore
 n.Jeden DIenstag wird sich die Gruppe um 10 Uhr für eine Stunde im \"Wohn
 zimmer\" (Robert-Kircher-Straße 25\, Fulda) treffen und in gemütlicher A
 tmosphäre auf Englisch unterhalten.Dabei ist es wichtig\, dass schon Grun
 dkenntnisse bestehen\, da es sich um eine Gesprächsrunde und keinen Kurs 
 handelt.&nbsp\;Geleitet wird das neue Angebot von Claudia Steckler\, die v
 or ihrer Pensionierung viele Jahre in den USA gelebt und dort Angestellte 
 in Englisch geschult hat.Die Teilnahme ist kostenlos\, es können maximal 
 8 Personen teilnehmen. Interessent/innen können sich per E-Mail an jochen
 @welcome-in.org&nbsp\;oder telefonisch unter der 0176 81386216 anmelden.&n
 bsp\;
LOCATION:Robert-Kircher-Straße 25\, 36037 Fulda\, Deutschland
DTSTART:20240430T080000Z
DTEND:20240430T090000Z
DTSTAMP:20240422T065118Z
ORGANIZER:MAILTO:admin@welcome-in.org
GEO:50.549459;9.67264
X-APPLE-STRUCTURED-LOCATION;VALUE=URI;X-ADDRESS=Robert-Kircher-Straße 25\,
  36037 Fulda\, Deutschland;X-APPLE-RADIUS=72;X-TITLE=Welcome In! WOHNZIMME
 R:50.549459;9.67264
END:VEVENT
END:VCALENDAR